BEGIN:VCALENDAR
VERSION:2.0
PRODID:-//Freddy J&#039;s Bar &amp; Kitchen - ECPv6.15.20//NONSGML v1.0//EN
CALSCALE:GREGORIAN
METHOD:PUBLISH
X-WR-CALNAME:Freddy J&#039;s Bar &amp; Kitchen
X-ORIGINAL-URL:https://freddyjs.com
X-WR-CALDESC:Events for Freddy J&#039;s Bar &amp; Kitchen
REFRESH-INTERVAL;VALUE=DURATION:PT1H
X-Robots-Tag:noindex
X-PUBLISHED-TTL:PT1H
BEGIN:VTIMEZONE
TZID:America/New_York
BEGIN:DAYLIGHT
TZOFFSETFROM:-0500
TZOFFSETTO:-0400
TZNAME:EDT
DTSTART:20240310T070000
END:DAYLIGHT
BEGIN:STANDARD
TZOFFSETFROM:-0400
TZOFFSETTO:-0500
TZNAME:EST
DTSTART:20241103T060000
END:STANDARD
BEGIN:DAYLIGHT
TZOFFSETFROM:-0500
TZOFFSETTO:-0400
TZNAME:EDT
DTSTART:20250309T070000
END:DAYLIGHT
BEGIN:STANDARD
TZOFFSETFROM:-0400
TZOFFSETTO:-0500
TZNAME:EST
DTSTART:20251102T060000
END:STANDARD
BEGIN:DAYLIGHT
TZOFFSETFROM:-0500
TZOFFSETTO:-0400
TZNAME:EDT
DTSTART:20260308T070000
END:DAYLIGHT
BEGIN:STANDARD
TZOFFSETFROM:-0400
TZOFFSETTO:-0500
TZNAME:EST
DTSTART:20261101T060000
END:STANDARD
END:VTIMEZONE
BEGIN:VEVENT
DTSTART;TZID=America/New_York:20250902T190000
DTEND;TZID=America/New_York:20250902T210000
DTSTAMP:20260419T125944
CREATED:20250530T172044Z
LAST-MODIFIED:20250530T172110Z
UID:10001815-1756839600-1756846800@freddyjs.com
SUMMARY:Weekly DJ Trivia
DESCRIPTION:Think you have what it takes to dominate Tuesday nights? Gather your team and head to Freddy J’s Bar & Kitchen every Tuesday for DJ Trivia\, hosted by DJ Trivia.  \n\n\n\nSign-ups open at 7:00 PM\, and trivia fires off at 7:30 PM sharp\, with five rounds of general knowledge\, pop culture\, and surprise categories that will keep you on your toes until around 9 PM. \n\n\n\nFuel your brain and your appetite with our $6 for two tacos deal and $5 margaritas while you play. Teams of any size are welcome\, and every point you earn counts toward our season-long leaderboard.  \n\n\n\nTop teams qualify for the playoffs and ultimately compete for the championship.  \n\n\n\nFreddy J’s gift cards go to the 1st\, 2nd\, and 3rd place squads each week. \n\n\n\nNo RSVP required. Just show up\, grab a seat\, order a round\, and bring your A-game and your appetite.  \n\n\n\nSee you Tuesday for Taco Tuesday and DJ Trivia at Freddy J’s!
URL:https://freddyjs.com/event/weekly-dj-trivia-2/2025-09-02/
LOCATION:Freddy J’s Bar & Kitchen\, 5698 Somers Point Road\, Mays Landing\, NJ\, 08330\, United States
CATEGORIES:Bar Events
ATTACH;FMTTYPE=image/jpeg:https://freddyjs.com/wp-content/uploads/2025/05/Trivia.jpg
END:VEVENT
BEGIN:VEVENT
DTSTART;TZID=America/New_York:20250904T190000
DTEND;TZID=America/New_York:20250904T210000
DTSTAMP:20260419T125944
CREATED:20250605T041446Z
LAST-MODIFIED:20260109T004513Z
UID:10001901-1757012400-1757019600@freddyjs.com
SUMMARY:Mays Landing Cornhole League – Fall 2025 Season
DESCRIPTION:Autumn is coming\, and it’s time to get those bags flying again. The Mays Landing Cornhole League is excited to kick off our Fall 2025 season! Expect another amazing run of competition\, camaraderie\, and community fun. Whether you’re a seasoned player or new to the game\, there is a spot for everyone in our league. \n\n\n\nFall Season Schedule\n\n\n\n\nWeek 1 – Thursday\, September 4\, 2025\n\n\n\nWeek 2 – Thursday\, September 11\, 2025\n\n\n\nWeek 3 – Thursday\, September 18\, 2025\n\n\n\nWeek 4 – Thursday\, September 25\, 2025\n\n\n\nWeek 5 – Thursday\, October 2\, 2025\n\n\n\nWeek 6 – Thursday\, October 9\, 2025\n\n\n\nWeek 7 – Thursday\, October 16\, 2025\n\n\n\nWeek 8 – Thursday\, October 23\, 2025 (playoffs)\n\n\n\nWeek 9 – Thursday\, November 6\, 2025 (playoffs)\n\n\n\nWeek 10 – Sunday\, November 9\, 2025 (Championship)\n\n\n\n\nPlease note there will be no league play on Thursday\, October 30\, due to the Mays Landing Halloween Parade. \n\n\n\nPlayer Registration\n\n\n\nRegistration is now open at $70 per player\, $140 per team and covers: \n\n\n\n\nTen weeks of league play\, including playoffs and championships\n\n\n\nExclusive Fall 2025 league t-shirt\n\n\n\nHappy hour perks at Freddy J’s Bar & Kitchen every league night (think $1 wings and $2 Yuenglings)\n\n\n\n\nTeams of two should register by Thursday\, September 4\, 2025\, during Week 1.
URL:https://freddyjs.com/event/mays-landing-cornhole-league-fall-2025-season/
LOCATION:Freddy J’s Bar & Kitchen\, 5698 Somers Point Road\, Mays Landing\, NJ\, 08330\, United States
CATEGORIES:Mays Landing Cornhole League
ATTACH;FMTTYPE=image/png:https://freddyjs.com/wp-content/uploads/2025/06/Cornhole-Logo-Fall-2025.png
END:VEVENT
BEGIN:VEVENT
DTSTART;TZID=America/New_York:20250904T190000
DTEND;TZID=America/New_York:20250904T230000
DTSTAMP:20260419T125944
CREATED:20250530T174844Z
LAST-MODIFIED:20260109T004521Z
UID:10001885-1757012400-1757026800@freddyjs.com
SUMMARY:Music Bingo & DJ Party
DESCRIPTION:Every Thursday night\, USA DJ Entertainment brings the party to Freddy J’s Bar & Kitchen. DJs Bernie J and Wally K spin your favorite pop\, rock\, hip-hop\, and surprise throwbacks as you mark off tracks on your bingo card from 7 PM to 11 PM.  \n\n\n\nEnjoy the jams between rounds\, compete in fast-paced bingo games\, and test your music knowledge. \n\n\n\nFuel the fun with $1 wings and $2 Yuenglings while you play. Winners are crowned every hour and take home Freddy J’s gift cards.  \n\n\n\nSeating is available on a first-come\, first-served basis\, and an RSVP is not required. \n\n\n\nWhether you’re a bingo rookie or a seasoned pro\, Thursday nights at Freddy J’s are guaranteed to become your new midweek highlight.
URL:https://freddyjs.com/event/music-bingo-dj-party-3/2025-09-04/
LOCATION:Freddy J’s Bar & Kitchen\, 5698 Somers Point Road\, Mays Landing\, NJ\, 08330\, United States
CATEGORIES:Bar Events
ATTACH;FMTTYPE=image/jpeg:https://freddyjs.com/wp-content/uploads/2025/05/Music-Bingo.jpg
END:VEVENT
BEGIN:VEVENT
DTSTART;TZID=America/New_York:20250909T190000
DTEND;TZID=America/New_York:20250909T210000
DTSTAMP:20260419T125944
CREATED:20250530T172044Z
LAST-MODIFIED:20250530T172110Z
UID:10001816-1757444400-1757451600@freddyjs.com
SUMMARY:Weekly DJ Trivia
DESCRIPTION:Think you have what it takes to dominate Tuesday nights? Gather your team and head to Freddy J’s Bar & Kitchen every Tuesday for DJ Trivia\, hosted by DJ Trivia.  \n\n\n\nSign-ups open at 7:00 PM\, and trivia fires off at 7:30 PM sharp\, with five rounds of general knowledge\, pop culture\, and surprise categories that will keep you on your toes until around 9 PM. \n\n\n\nFuel your brain and your appetite with our $6 for two tacos deal and $5 margaritas while you play. Teams of any size are welcome\, and every point you earn counts toward our season-long leaderboard.  \n\n\n\nTop teams qualify for the playoffs and ultimately compete for the championship.  \n\n\n\nFreddy J’s gift cards go to the 1st\, 2nd\, and 3rd place squads each week. \n\n\n\nNo RSVP required. Just show up\, grab a seat\, order a round\, and bring your A-game and your appetite.  \n\n\n\nSee you Tuesday for Taco Tuesday and DJ Trivia at Freddy J’s!
URL:https://freddyjs.com/event/weekly-dj-trivia-2/2025-09-09/
LOCATION:Freddy J’s Bar & Kitchen\, 5698 Somers Point Road\, Mays Landing\, NJ\, 08330\, United States
CATEGORIES:Bar Events
ATTACH;FMTTYPE=image/jpeg:https://freddyjs.com/wp-content/uploads/2025/05/Trivia.jpg
END:VEVENT
BEGIN:VEVENT
DTSTART;TZID=America/New_York:20250911T190000
DTEND;TZID=America/New_York:20250911T230000
DTSTAMP:20260419T125944
CREATED:20250530T174844Z
LAST-MODIFIED:20260109T004521Z
UID:10001886-1757617200-1757631600@freddyjs.com
SUMMARY:Music Bingo & DJ Party
DESCRIPTION:Every Thursday night\, USA DJ Entertainment brings the party to Freddy J’s Bar & Kitchen. DJs Bernie J and Wally K spin your favorite pop\, rock\, hip-hop\, and surprise throwbacks as you mark off tracks on your bingo card from 7 PM to 11 PM.  \n\n\n\nEnjoy the jams between rounds\, compete in fast-paced bingo games\, and test your music knowledge. \n\n\n\nFuel the fun with $1 wings and $2 Yuenglings while you play. Winners are crowned every hour and take home Freddy J’s gift cards.  \n\n\n\nSeating is available on a first-come\, first-served basis\, and an RSVP is not required. \n\n\n\nWhether you’re a bingo rookie or a seasoned pro\, Thursday nights at Freddy J’s are guaranteed to become your new midweek highlight.
URL:https://freddyjs.com/event/music-bingo-dj-party-3/2025-09-11/
LOCATION:Freddy J’s Bar & Kitchen\, 5698 Somers Point Road\, Mays Landing\, NJ\, 08330\, United States
CATEGORIES:Bar Events
ATTACH;FMTTYPE=image/jpeg:https://freddyjs.com/wp-content/uploads/2025/05/Music-Bingo.jpg
END:VEVENT
BEGIN:VEVENT
DTSTART;TZID=America/New_York:20250916T190000
DTEND;TZID=America/New_York:20250916T210000
DTSTAMP:20260419T125944
CREATED:20250530T172044Z
LAST-MODIFIED:20250530T172110Z
UID:10001817-1758049200-1758056400@freddyjs.com
SUMMARY:Weekly DJ Trivia
DESCRIPTION:Think you have what it takes to dominate Tuesday nights? Gather your team and head to Freddy J’s Bar & Kitchen every Tuesday for DJ Trivia\, hosted by DJ Trivia.  \n\n\n\nSign-ups open at 7:00 PM\, and trivia fires off at 7:30 PM sharp\, with five rounds of general knowledge\, pop culture\, and surprise categories that will keep you on your toes until around 9 PM. \n\n\n\nFuel your brain and your appetite with our $6 for two tacos deal and $5 margaritas while you play. Teams of any size are welcome\, and every point you earn counts toward our season-long leaderboard.  \n\n\n\nTop teams qualify for the playoffs and ultimately compete for the championship.  \n\n\n\nFreddy J’s gift cards go to the 1st\, 2nd\, and 3rd place squads each week. \n\n\n\nNo RSVP required. Just show up\, grab a seat\, order a round\, and bring your A-game and your appetite.  \n\n\n\nSee you Tuesday for Taco Tuesday and DJ Trivia at Freddy J’s!
URL:https://freddyjs.com/event/weekly-dj-trivia-2/2025-09-16/
LOCATION:Freddy J’s Bar & Kitchen\, 5698 Somers Point Road\, Mays Landing\, NJ\, 08330\, United States
CATEGORIES:Bar Events
ATTACH;FMTTYPE=image/jpeg:https://freddyjs.com/wp-content/uploads/2025/05/Trivia.jpg
END:VEVENT
BEGIN:VEVENT
DTSTART;TZID=America/New_York:20250918T190000
DTEND;TZID=America/New_York:20250918T230000
DTSTAMP:20260419T125944
CREATED:20250530T174844Z
LAST-MODIFIED:20260109T004521Z
UID:10001887-1758222000-1758236400@freddyjs.com
SUMMARY:Music Bingo & DJ Party
DESCRIPTION:Every Thursday night\, USA DJ Entertainment brings the party to Freddy J’s Bar & Kitchen. DJs Bernie J and Wally K spin your favorite pop\, rock\, hip-hop\, and surprise throwbacks as you mark off tracks on your bingo card from 7 PM to 11 PM.  \n\n\n\nEnjoy the jams between rounds\, compete in fast-paced bingo games\, and test your music knowledge. \n\n\n\nFuel the fun with $1 wings and $2 Yuenglings while you play. Winners are crowned every hour and take home Freddy J’s gift cards.  \n\n\n\nSeating is available on a first-come\, first-served basis\, and an RSVP is not required. \n\n\n\nWhether you’re a bingo rookie or a seasoned pro\, Thursday nights at Freddy J’s are guaranteed to become your new midweek highlight.
URL:https://freddyjs.com/event/music-bingo-dj-party-3/2025-09-18/
LOCATION:Freddy J’s Bar & Kitchen\, 5698 Somers Point Road\, Mays Landing\, NJ\, 08330\, United States
CATEGORIES:Bar Events
ATTACH;FMTTYPE=image/jpeg:https://freddyjs.com/wp-content/uploads/2025/05/Music-Bingo.jpg
END:VEVENT
BEGIN:VEVENT
DTSTART;TZID=America/New_York:20250923T190000
DTEND;TZID=America/New_York:20250923T210000
DTSTAMP:20260419T125944
CREATED:20250530T172044Z
LAST-MODIFIED:20250530T172110Z
UID:10001818-1758654000-1758661200@freddyjs.com
SUMMARY:Weekly DJ Trivia
DESCRIPTION:Think you have what it takes to dominate Tuesday nights? Gather your team and head to Freddy J’s Bar & Kitchen every Tuesday for DJ Trivia\, hosted by DJ Trivia.  \n\n\n\nSign-ups open at 7:00 PM\, and trivia fires off at 7:30 PM sharp\, with five rounds of general knowledge\, pop culture\, and surprise categories that will keep you on your toes until around 9 PM. \n\n\n\nFuel your brain and your appetite with our $6 for two tacos deal and $5 margaritas while you play. Teams of any size are welcome\, and every point you earn counts toward our season-long leaderboard.  \n\n\n\nTop teams qualify for the playoffs and ultimately compete for the championship.  \n\n\n\nFreddy J’s gift cards go to the 1st\, 2nd\, and 3rd place squads each week. \n\n\n\nNo RSVP required. Just show up\, grab a seat\, order a round\, and bring your A-game and your appetite.  \n\n\n\nSee you Tuesday for Taco Tuesday and DJ Trivia at Freddy J’s!
URL:https://freddyjs.com/event/weekly-dj-trivia-2/2025-09-23/
LOCATION:Freddy J’s Bar & Kitchen\, 5698 Somers Point Road\, Mays Landing\, NJ\, 08330\, United States
CATEGORIES:Bar Events
ATTACH;FMTTYPE=image/jpeg:https://freddyjs.com/wp-content/uploads/2025/05/Trivia.jpg
END:VEVENT
BEGIN:VEVENT
DTSTART;TZID=America/New_York:20250925T190000
DTEND;TZID=America/New_York:20250925T230000
DTSTAMP:20260419T125944
CREATED:20250530T174844Z
LAST-MODIFIED:20260109T004521Z
UID:10001888-1758826800-1758841200@freddyjs.com
SUMMARY:Music Bingo & DJ Party
DESCRIPTION:Every Thursday night\, USA DJ Entertainment brings the party to Freddy J’s Bar & Kitchen. DJs Bernie J and Wally K spin your favorite pop\, rock\, hip-hop\, and surprise throwbacks as you mark off tracks on your bingo card from 7 PM to 11 PM.  \n\n\n\nEnjoy the jams between rounds\, compete in fast-paced bingo games\, and test your music knowledge. \n\n\n\nFuel the fun with $1 wings and $2 Yuenglings while you play. Winners are crowned every hour and take home Freddy J’s gift cards.  \n\n\n\nSeating is available on a first-come\, first-served basis\, and an RSVP is not required. \n\n\n\nWhether you’re a bingo rookie or a seasoned pro\, Thursday nights at Freddy J’s are guaranteed to become your new midweek highlight.
URL:https://freddyjs.com/event/music-bingo-dj-party-3/2025-09-25/
LOCATION:Freddy J’s Bar & Kitchen\, 5698 Somers Point Road\, Mays Landing\, NJ\, 08330\, United States
CATEGORIES:Bar Events
ATTACH;FMTTYPE=image/jpeg:https://freddyjs.com/wp-content/uploads/2025/05/Music-Bingo.jpg
END:VEVENT
BEGIN:VEVENT
DTSTART;TZID=America/New_York:20250930T190000
DTEND;TZID=America/New_York:20250930T210000
DTSTAMP:20260419T125944
CREATED:20250530T172044Z
LAST-MODIFIED:20250530T172110Z
UID:10001819-1759258800-1759266000@freddyjs.com
SUMMARY:Weekly DJ Trivia
DESCRIPTION:Think you have what it takes to dominate Tuesday nights? Gather your team and head to Freddy J’s Bar & Kitchen every Tuesday for DJ Trivia\, hosted by DJ Trivia.  \n\n\n\nSign-ups open at 7:00 PM\, and trivia fires off at 7:30 PM sharp\, with five rounds of general knowledge\, pop culture\, and surprise categories that will keep you on your toes until around 9 PM. \n\n\n\nFuel your brain and your appetite with our $6 for two tacos deal and $5 margaritas while you play. Teams of any size are welcome\, and every point you earn counts toward our season-long leaderboard.  \n\n\n\nTop teams qualify for the playoffs and ultimately compete for the championship.  \n\n\n\nFreddy J’s gift cards go to the 1st\, 2nd\, and 3rd place squads each week. \n\n\n\nNo RSVP required. Just show up\, grab a seat\, order a round\, and bring your A-game and your appetite.  \n\n\n\nSee you Tuesday for Taco Tuesday and DJ Trivia at Freddy J’s!
URL:https://freddyjs.com/event/weekly-dj-trivia-2/2025-09-30/
LOCATION:Freddy J’s Bar & Kitchen\, 5698 Somers Point Road\, Mays Landing\, NJ\, 08330\, United States
CATEGORIES:Bar Events
ATTACH;FMTTYPE=image/jpeg:https://freddyjs.com/wp-content/uploads/2025/05/Trivia.jpg
END:VEVENT
END:VCALENDAR