BEGIN:VCALENDAR
VERSION:2.0
PRODID:-//Freddy J&#039;s Bar &amp; Kitchen - ECPv6.15.20//NONSGML v1.0//EN
CALSCALE:GREGORIAN
METHOD:PUBLISH
X-WR-CALNAME:Freddy J&#039;s Bar &amp; Kitchen
X-ORIGINAL-URL:https://freddyjs.com
X-WR-CALDESC:Events for Freddy J&#039;s Bar &amp; Kitchen
REFRESH-INTERVAL;VALUE=DURATION:PT1H
X-Robots-Tag:noindex
X-PUBLISHED-TTL:PT1H
BEGIN:VTIMEZONE
TZID:America/New_York
BEGIN:DAYLIGHT
TZOFFSETFROM:-0500
TZOFFSETTO:-0400
TZNAME:EDT
DTSTART:20220313T070000
END:DAYLIGHT
BEGIN:STANDARD
TZOFFSETFROM:-0400
TZOFFSETTO:-0500
TZNAME:EST
DTSTART:20221106T060000
END:STANDARD
BEGIN:DAYLIGHT
TZOFFSETFROM:-0500
TZOFFSETTO:-0400
TZNAME:EDT
DTSTART:20230312T070000
END:DAYLIGHT
BEGIN:STANDARD
TZOFFSETFROM:-0400
TZOFFSETTO:-0500
TZNAME:EST
DTSTART:20231105T060000
END:STANDARD
BEGIN:DAYLIGHT
TZOFFSETFROM:-0500
TZOFFSETTO:-0400
TZNAME:EDT
DTSTART:20240310T070000
END:DAYLIGHT
BEGIN:STANDARD
TZOFFSETFROM:-0400
TZOFFSETTO:-0500
TZNAME:EST
DTSTART:20241103T060000
END:STANDARD
END:VTIMEZONE
BEGIN:VEVENT
DTSTART;TZID=America/New_York:20230201T190000
DTEND;TZID=America/New_York:20230201T210000
DTSTAMP:20260420T061748
CREATED:20211030T081737Z
LAST-MODIFIED:20231204T004934Z
UID:10001441-1675278000-1675285200@freddyjs.com
SUMMARY:Trivia Night
DESCRIPTION:Freddy J’s is hosting a trivia night on Wednesdays. The quizmasters will be DJ Bernie & Wally from USA DJ Entertainment!  \n\n\n\nTest your knowledge and win great prizes while enjoying drinks with friends.  \n\n\n\nGrab some appetizers while you’re at it!
URL:https://freddyjs.com/event/trivia-night/2023-02-01/
LOCATION:Freddy J’s Bar & Kitchen\, 5698 Somers Point Road\, Mays Landing\, NJ\, 08330\, United States
CATEGORIES:Bar Events
ATTACH;FMTTYPE=image/jpeg:https://freddyjs.com/wp-content/uploads/2022/05/Trivia-Night.jpg
END:VEVENT
BEGIN:VEVENT
DTSTART;TZID=America/New_York:20230202T190000
DTEND;TZID=America/New_York:20230202T230000
DTSTAMP:20260420T061748
CREATED:20221116T183653Z
LAST-MODIFIED:20250205T101548Z
UID:10001166-1675364400-1675378800@freddyjs.com
SUMMARY:Karaoke Thursdays
DESCRIPTION:Have you been looking for a fun night out with friends? Well\, look no further! Freddy J’s Bar & Kitchen hosts Karaoke Thursday at 7:00 pm.  \n\n\n\nThe dynamic duo of USA DJ/Karaoke Entertainment will be the host\, and they promise it will be a fantastic time.  \n\n\n\nCome to sing your favorite songs and enjoy some of Freddy J’s delicious food.
URL:https://freddyjs.com/event/karaoke-friday-at-freddy-js-3/2023-02-02/
LOCATION:Freddy J’s Bar & Kitchen\, 5698 Somers Point Road\, Mays Landing\, NJ\, 08330\, United States
CATEGORIES:Bar Events
ATTACH;FMTTYPE=image/jpeg:https://freddyjs.com/wp-content/uploads/2022/11/Karaoke-Night-1.jpg
END:VEVENT
BEGIN:VEVENT
DTSTART;TZID=America/New_York:20230208T190000
DTEND;TZID=America/New_York:20230208T210000
DTSTAMP:20260420T061748
CREATED:20211030T081737Z
LAST-MODIFIED:20231204T004934Z
UID:10001442-1675882800-1675890000@freddyjs.com
SUMMARY:Trivia Night
DESCRIPTION:Freddy J’s is hosting a trivia night on Wednesdays. The quizmasters will be DJ Bernie & Wally from USA DJ Entertainment!  \n\n\n\nTest your knowledge and win great prizes while enjoying drinks with friends.  \n\n\n\nGrab some appetizers while you’re at it!
URL:https://freddyjs.com/event/trivia-night/2023-02-08/
LOCATION:Freddy J’s Bar & Kitchen\, 5698 Somers Point Road\, Mays Landing\, NJ\, 08330\, United States
CATEGORIES:Bar Events
ATTACH;FMTTYPE=image/jpeg:https://freddyjs.com/wp-content/uploads/2022/05/Trivia-Night.jpg
END:VEVENT
BEGIN:VEVENT
DTSTART;TZID=America/New_York:20230209T190000
DTEND;TZID=America/New_York:20230209T230000
DTSTAMP:20260420T061748
CREATED:20221116T183653Z
LAST-MODIFIED:20250205T101548Z
UID:10001167-1675969200-1675983600@freddyjs.com
SUMMARY:Karaoke Thursdays
DESCRIPTION:Have you been looking for a fun night out with friends? Well\, look no further! Freddy J’s Bar & Kitchen hosts Karaoke Thursday at 7:00 pm.  \n\n\n\nThe dynamic duo of USA DJ/Karaoke Entertainment will be the host\, and they promise it will be a fantastic time.  \n\n\n\nCome to sing your favorite songs and enjoy some of Freddy J’s delicious food.
URL:https://freddyjs.com/event/karaoke-friday-at-freddy-js-3/2023-02-09/
LOCATION:Freddy J’s Bar & Kitchen\, 5698 Somers Point Road\, Mays Landing\, NJ\, 08330\, United States
CATEGORIES:Bar Events
ATTACH;FMTTYPE=image/jpeg:https://freddyjs.com/wp-content/uploads/2022/11/Karaoke-Night-1.jpg
END:VEVENT
BEGIN:VEVENT
DTSTART;TZID=America/New_York:20230212T100000
DTEND;TZID=America/New_York:20230212T230000
DTSTAMP:20260420T061748
CREATED:20230205T234511Z
LAST-MODIFIED:20230209T031310Z
UID:10001379-1676196000-1676242800@freddyjs.com
SUMMARY:Celebrate the Big Game with Freddy J's
DESCRIPTION:At Freddy J’s Bar & Kitchen\, we are gearing up for the biggest game of the year – the Super Bowl between the Eagles and Chiefs! Whether you join us in our lively dining room or opt for the convenience of takeout\, we’ve got you covered with our delectable spread of dishes.  \n\n\n\nOur menu will satisfy your cravings\, from our 1/2 pan of brussels sprouts to our full pan of creamy Mac & Cheese. And remember our famous smoked ribs\, with a 1/2 rack combo and a full rack option available.  \n\n\n\nRound out your feast with our crispy chicken tenders and smoky wings\, and you’re in for a touchdown celebration! Join us at Freddy J’s and make this Super Bowl one to remember! \n\n\n\nOrder Take-Out\n\n\n\nOrders are needed by Thursday\, February 9th at 5 pm. \n\n\n\n\nPREORDER SUPERBOWL FOOD
URL:https://freddyjs.com/event/big-game-eagles-chiefs/
LOCATION:Freddy J’s Bar & Kitchen\, 5698 Somers Point Road\, Mays Landing\, NJ\, 08330\, United States
CATEGORIES:Holidays
ATTACH;FMTTYPE=image/png:https://freddyjs.com/wp-content/uploads/2023/02/Super-Bowl.png
END:VEVENT
BEGIN:VEVENT
DTSTART;TZID=America/New_York:20230215T190000
DTEND;TZID=America/New_York:20230215T210000
DTSTAMP:20260420T061748
CREATED:20211030T081737Z
LAST-MODIFIED:20231204T004934Z
UID:10001443-1676487600-1676494800@freddyjs.com
SUMMARY:Trivia Night
DESCRIPTION:Freddy J’s is hosting a trivia night on Wednesdays. The quizmasters will be DJ Bernie & Wally from USA DJ Entertainment!  \n\n\n\nTest your knowledge and win great prizes while enjoying drinks with friends.  \n\n\n\nGrab some appetizers while you’re at it!
URL:https://freddyjs.com/event/trivia-night/2023-02-15/
LOCATION:Freddy J’s Bar & Kitchen\, 5698 Somers Point Road\, Mays Landing\, NJ\, 08330\, United States
CATEGORIES:Bar Events
ATTACH;FMTTYPE=image/jpeg:https://freddyjs.com/wp-content/uploads/2022/05/Trivia-Night.jpg
END:VEVENT
BEGIN:VEVENT
DTSTART;TZID=America/New_York:20230216T190000
DTEND;TZID=America/New_York:20230216T230000
DTSTAMP:20260420T061748
CREATED:20221116T183653Z
LAST-MODIFIED:20250205T101548Z
UID:10001168-1676574000-1676588400@freddyjs.com
SUMMARY:Karaoke Thursdays
DESCRIPTION:Have you been looking for a fun night out with friends? Well\, look no further! Freddy J’s Bar & Kitchen hosts Karaoke Thursday at 7:00 pm.  \n\n\n\nThe dynamic duo of USA DJ/Karaoke Entertainment will be the host\, and they promise it will be a fantastic time.  \n\n\n\nCome to sing your favorite songs and enjoy some of Freddy J’s delicious food.
URL:https://freddyjs.com/event/karaoke-friday-at-freddy-js-3/2023-02-16/
LOCATION:Freddy J’s Bar & Kitchen\, 5698 Somers Point Road\, Mays Landing\, NJ\, 08330\, United States
CATEGORIES:Bar Events
ATTACH;FMTTYPE=image/jpeg:https://freddyjs.com/wp-content/uploads/2022/11/Karaoke-Night-1.jpg
END:VEVENT
BEGIN:VEVENT
DTSTART;TZID=America/New_York:20230222T190000
DTEND;TZID=America/New_York:20230222T210000
DTSTAMP:20260420T061748
CREATED:20211030T081737Z
LAST-MODIFIED:20231204T004934Z
UID:10001444-1677092400-1677099600@freddyjs.com
SUMMARY:Trivia Night
DESCRIPTION:Freddy J’s is hosting a trivia night on Wednesdays. The quizmasters will be DJ Bernie & Wally from USA DJ Entertainment!  \n\n\n\nTest your knowledge and win great prizes while enjoying drinks with friends.  \n\n\n\nGrab some appetizers while you’re at it!
URL:https://freddyjs.com/event/trivia-night/2023-02-22/
LOCATION:Freddy J’s Bar & Kitchen\, 5698 Somers Point Road\, Mays Landing\, NJ\, 08330\, United States
CATEGORIES:Bar Events
ATTACH;FMTTYPE=image/jpeg:https://freddyjs.com/wp-content/uploads/2022/05/Trivia-Night.jpg
END:VEVENT
BEGIN:VEVENT
DTSTART;TZID=America/New_York:20230223T190000
DTEND;TZID=America/New_York:20230223T230000
DTSTAMP:20260420T061748
CREATED:20221116T183653Z
LAST-MODIFIED:20250205T101548Z
UID:10001169-1677178800-1677193200@freddyjs.com
SUMMARY:Karaoke Thursdays
DESCRIPTION:Have you been looking for a fun night out with friends? Well\, look no further! Freddy J’s Bar & Kitchen hosts Karaoke Thursday at 7:00 pm.  \n\n\n\nThe dynamic duo of USA DJ/Karaoke Entertainment will be the host\, and they promise it will be a fantastic time.  \n\n\n\nCome to sing your favorite songs and enjoy some of Freddy J’s delicious food.
URL:https://freddyjs.com/event/karaoke-friday-at-freddy-js-3/2023-02-23/
LOCATION:Freddy J’s Bar & Kitchen\, 5698 Somers Point Road\, Mays Landing\, NJ\, 08330\, United States
CATEGORIES:Bar Events
ATTACH;FMTTYPE=image/jpeg:https://freddyjs.com/wp-content/uploads/2022/11/Karaoke-Night-1.jpg
END:VEVENT
END:VCALENDAR