BEGIN:VCALENDAR
VERSION:2.0
PRODID:-//Freddy J&#039;s Bar &amp; Kitchen - ECPv6.15.20//NONSGML v1.0//EN
CALSCALE:GREGORIAN
METHOD:PUBLISH
X-WR-CALNAME:Freddy J&#039;s Bar &amp; Kitchen
X-ORIGINAL-URL:https://freddyjs.com
X-WR-CALDESC:Events for Freddy J&#039;s Bar &amp; Kitchen
REFRESH-INTERVAL;VALUE=DURATION:PT1H
X-Robots-Tag:noindex
X-PUBLISHED-TTL:PT1H
BEGIN:VTIMEZONE
TZID:America/New_York
BEGIN:DAYLIGHT
TZOFFSETFROM:-0500
TZOFFSETTO:-0400
TZNAME:EDT
DTSTART:20210314T070000
END:DAYLIGHT
BEGIN:STANDARD
TZOFFSETFROM:-0400
TZOFFSETTO:-0500
TZNAME:EST
DTSTART:20211107T060000
END:STANDARD
BEGIN:DAYLIGHT
TZOFFSETFROM:-0500
TZOFFSETTO:-0400
TZNAME:EDT
DTSTART:20220313T070000
END:DAYLIGHT
BEGIN:STANDARD
TZOFFSETFROM:-0400
TZOFFSETTO:-0500
TZNAME:EST
DTSTART:20221106T060000
END:STANDARD
BEGIN:DAYLIGHT
TZOFFSETFROM:-0500
TZOFFSETTO:-0400
TZNAME:EDT
DTSTART:20230312T070000
END:DAYLIGHT
BEGIN:STANDARD
TZOFFSETFROM:-0400
TZOFFSETTO:-0500
TZNAME:EST
DTSTART:20231105T060000
END:STANDARD
END:VTIMEZONE
BEGIN:VEVENT
DTSTART;TZID=America/New_York:20220831T190000
DTEND;TZID=America/New_York:20220831T210000
DTSTAMP:20260419T201321
CREATED:20211030T081737Z
LAST-MODIFIED:20231204T004934Z
UID:10001421-1661972400-1661979600@freddyjs.com
SUMMARY:Trivia Night
DESCRIPTION:Freddy J’s is hosting a trivia night on Wednesdays. The quizmasters will be DJ Bernie & Wally from USA DJ Entertainment!  \n\n\n\nTest your knowledge and win great prizes while enjoying drinks with friends.  \n\n\n\nGrab some appetizers while you’re at it!
URL:https://freddyjs.com/event/trivia-night/2022-08-31/
LOCATION:Freddy J’s Bar & Kitchen\, 5698 Somers Point Road\, Mays Landing\, NJ\, 08330\, United States
CATEGORIES:Bar Events
ATTACH;FMTTYPE=image/jpeg:https://freddyjs.com/wp-content/uploads/2022/05/Trivia-Night.jpg
END:VEVENT
BEGIN:VEVENT
DTSTART;TZID=America/New_York:20220826T190000
DTEND;TZID=America/New_York:20220826T230000
DTSTAMP:20260419T201321
CREATED:20211105T182046Z
LAST-MODIFIED:20220914T170315Z
UID:10000620-1661540400-1661554800@freddyjs.com
SUMMARY:Karaoke Friday at Freddy J's
DESCRIPTION:Have you been looking for a fun night out with friends? Well\, look no further! Freddy J’s Bar & Kitchen is hosting Karaoke Friday Night starting at 7:00 pm.  \n\n\n\nThe dynamic duo of USA DJ/Karaoke Entertainment will be the host and he promises that it will be an amazing time. Come on out to have a great time singing your favorite songs and enjoying some of Freddy J’s delicious food.
URL:https://freddyjs.com/event/karaoke-friday/2022-08-26/
LOCATION:Freddy J’s Bar & Kitchen\, 5698 Somers Point Road\, Mays Landing\, NJ\, 08330\, United States
CATEGORIES:Bar Events
ATTACH;FMTTYPE=image/png:https://freddyjs.com/wp-content/uploads/2022/02/Karaoke-Night-2022.png
END:VEVENT
BEGIN:VEVENT
DTSTART;TZID=America/New_York:20220824T190000
DTEND;TZID=America/New_York:20220824T210000
DTSTAMP:20260419T201321
CREATED:20211030T081737Z
LAST-MODIFIED:20231204T004934Z
UID:10001420-1661367600-1661374800@freddyjs.com
SUMMARY:Trivia Night
DESCRIPTION:Freddy J’s is hosting a trivia night on Wednesdays. The quizmasters will be DJ Bernie & Wally from USA DJ Entertainment!  \n\n\n\nTest your knowledge and win great prizes while enjoying drinks with friends.  \n\n\n\nGrab some appetizers while you’re at it!
URL:https://freddyjs.com/event/trivia-night/2022-08-24/
LOCATION:Freddy J’s Bar & Kitchen\, 5698 Somers Point Road\, Mays Landing\, NJ\, 08330\, United States
CATEGORIES:Bar Events
ATTACH;FMTTYPE=image/jpeg:https://freddyjs.com/wp-content/uploads/2022/05/Trivia-Night.jpg
END:VEVENT
BEGIN:VEVENT
DTSTART;TZID=America/New_York:20220819T190000
DTEND;TZID=America/New_York:20220819T230000
DTSTAMP:20260419T201321
CREATED:20211105T182046Z
LAST-MODIFIED:20220914T170315Z
UID:10000619-1660935600-1660950000@freddyjs.com
SUMMARY:Karaoke Friday at Freddy J's
DESCRIPTION:Have you been looking for a fun night out with friends? Well\, look no further! Freddy J’s Bar & Kitchen is hosting Karaoke Friday Night starting at 7:00 pm.  \n\n\n\nThe dynamic duo of USA DJ/Karaoke Entertainment will be the host and he promises that it will be an amazing time. Come on out to have a great time singing your favorite songs and enjoying some of Freddy J’s delicious food.
URL:https://freddyjs.com/event/karaoke-friday/2022-08-19/
LOCATION:Freddy J’s Bar & Kitchen\, 5698 Somers Point Road\, Mays Landing\, NJ\, 08330\, United States
CATEGORIES:Bar Events
ATTACH;FMTTYPE=image/png:https://freddyjs.com/wp-content/uploads/2022/02/Karaoke-Night-2022.png
END:VEVENT
BEGIN:VEVENT
DTSTART;TZID=America/New_York:20220817T190000
DTEND;TZID=America/New_York:20220817T210000
DTSTAMP:20260419T201321
CREATED:20211030T081737Z
LAST-MODIFIED:20231204T004934Z
UID:10001419-1660762800-1660770000@freddyjs.com
SUMMARY:Trivia Night
DESCRIPTION:Freddy J’s is hosting a trivia night on Wednesdays. The quizmasters will be DJ Bernie & Wally from USA DJ Entertainment!  \n\n\n\nTest your knowledge and win great prizes while enjoying drinks with friends.  \n\n\n\nGrab some appetizers while you’re at it!
URL:https://freddyjs.com/event/trivia-night/2022-08-17/
LOCATION:Freddy J’s Bar & Kitchen\, 5698 Somers Point Road\, Mays Landing\, NJ\, 08330\, United States
CATEGORIES:Bar Events
ATTACH;FMTTYPE=image/jpeg:https://freddyjs.com/wp-content/uploads/2022/05/Trivia-Night.jpg
END:VEVENT
BEGIN:VEVENT
DTSTART;TZID=America/New_York:20220813T110000
DTEND;TZID=America/New_York:20220813T140000
DTSTAMP:20260419T201321
CREATED:20220707T171355Z
LAST-MODIFIED:20220707T192513Z
UID:10000645-1660388400-1660399200@freddyjs.com
SUMMARY:Buzz Gworls Brunch
DESCRIPTION:Drag brunch is coming to Mays Landing\, NJ – at Freddy J’s Bar & Kitchen! \n\n\n\nJoin us for a fun brunch with your friends! On August 13th\, we are partnering with What the Buzz Productions and we’ll be having “Buzz Gworls Brunch.” \n\n\n\nDoors open at 11 am and the show starts at 12 pm sharp!  \n\n\n\nIndividual tickets are $15 each plus tax & fees and group tickets are available for groups of 2 or more people.  \n\n\n\nTickets can be purchased below – don’t wait to get yours before they’re all gone! We hope to see you there…and that you’ll have fun!!
URL:https://freddyjs.com/event/buzz-gworls-brunch-aug-22/
LOCATION:Freddy J’s Bar & Kitchen\, 5698 Somers Point Road\, Mays Landing\, NJ\, 08330\, United States
CATEGORIES:Bar Events
ATTACH;FMTTYPE=image/jpeg:https://freddyjs.com/wp-content/uploads/2022/07/Buzz-Gworls-Brunch-Banner.jpg
END:VEVENT
BEGIN:VEVENT
DTSTART;TZID=America/New_York:20220812T190000
DTEND;TZID=America/New_York:20220812T230000
DTSTAMP:20260419T201321
CREATED:20211105T182046Z
LAST-MODIFIED:20220914T170315Z
UID:10000618-1660330800-1660345200@freddyjs.com
SUMMARY:Karaoke Friday at Freddy J's
DESCRIPTION:Have you been looking for a fun night out with friends? Well\, look no further! Freddy J’s Bar & Kitchen is hosting Karaoke Friday Night starting at 7:00 pm.  \n\n\n\nThe dynamic duo of USA DJ/Karaoke Entertainment will be the host and he promises that it will be an amazing time. Come on out to have a great time singing your favorite songs and enjoying some of Freddy J’s delicious food.
URL:https://freddyjs.com/event/karaoke-friday/2022-08-12/
LOCATION:Freddy J’s Bar & Kitchen\, 5698 Somers Point Road\, Mays Landing\, NJ\, 08330\, United States
CATEGORIES:Bar Events
ATTACH;FMTTYPE=image/png:https://freddyjs.com/wp-content/uploads/2022/02/Karaoke-Night-2022.png
END:VEVENT
BEGIN:VEVENT
DTSTART;TZID=America/New_York:20220810T190000
DTEND;TZID=America/New_York:20220810T210000
DTSTAMP:20260419T201321
CREATED:20211030T081737Z
LAST-MODIFIED:20231204T004934Z
UID:10001418-1660158000-1660165200@freddyjs.com
SUMMARY:Trivia Night
DESCRIPTION:Freddy J’s is hosting a trivia night on Wednesdays. The quizmasters will be DJ Bernie & Wally from USA DJ Entertainment!  \n\n\n\nTest your knowledge and win great prizes while enjoying drinks with friends.  \n\n\n\nGrab some appetizers while you’re at it!
URL:https://freddyjs.com/event/trivia-night/2022-08-10/
LOCATION:Freddy J’s Bar & Kitchen\, 5698 Somers Point Road\, Mays Landing\, NJ\, 08330\, United States
CATEGORIES:Bar Events
ATTACH;FMTTYPE=image/jpeg:https://freddyjs.com/wp-content/uploads/2022/05/Trivia-Night.jpg
END:VEVENT
BEGIN:VEVENT
DTSTART;TZID=America/New_York:20220805T190000
DTEND;TZID=America/New_York:20220805T230000
DTSTAMP:20260419T201321
CREATED:20211105T182046Z
LAST-MODIFIED:20220914T170315Z
UID:10000617-1659726000-1659740400@freddyjs.com
SUMMARY:Karaoke Friday at Freddy J's
DESCRIPTION:Have you been looking for a fun night out with friends? Well\, look no further! Freddy J’s Bar & Kitchen is hosting Karaoke Friday Night starting at 7:00 pm.  \n\n\n\nThe dynamic duo of USA DJ/Karaoke Entertainment will be the host and he promises that it will be an amazing time. Come on out to have a great time singing your favorite songs and enjoying some of Freddy J’s delicious food.
URL:https://freddyjs.com/event/karaoke-friday/2022-08-05/
LOCATION:Freddy J’s Bar & Kitchen\, 5698 Somers Point Road\, Mays Landing\, NJ\, 08330\, United States
CATEGORIES:Bar Events
ATTACH;FMTTYPE=image/png:https://freddyjs.com/wp-content/uploads/2022/02/Karaoke-Night-2022.png
END:VEVENT
BEGIN:VEVENT
DTSTART;TZID=America/New_York:20220803T190000
DTEND;TZID=America/New_York:20220803T210000
DTSTAMP:20260419T201321
CREATED:20211030T081737Z
LAST-MODIFIED:20231204T004934Z
UID:10001417-1659553200-1659560400@freddyjs.com
SUMMARY:Trivia Night
DESCRIPTION:Freddy J’s is hosting a trivia night on Wednesdays. The quizmasters will be DJ Bernie & Wally from USA DJ Entertainment!  \n\n\n\nTest your knowledge and win great prizes while enjoying drinks with friends.  \n\n\n\nGrab some appetizers while you’re at it!
URL:https://freddyjs.com/event/trivia-night/2022-08-03/
LOCATION:Freddy J’s Bar & Kitchen\, 5698 Somers Point Road\, Mays Landing\, NJ\, 08330\, United States
CATEGORIES:Bar Events
ATTACH;FMTTYPE=image/jpeg:https://freddyjs.com/wp-content/uploads/2022/05/Trivia-Night.jpg
END:VEVENT
BEGIN:VEVENT
DTSTART;TZID=America/New_York:20220729T190000
DTEND;TZID=America/New_York:20220729T230000
DTSTAMP:20260419T201321
CREATED:20211105T182046Z
LAST-MODIFIED:20220914T170315Z
UID:10000616-1659121200-1659135600@freddyjs.com
SUMMARY:Karaoke Friday at Freddy J's
DESCRIPTION:Have you been looking for a fun night out with friends? Well\, look no further! Freddy J’s Bar & Kitchen is hosting Karaoke Friday Night starting at 7:00 pm.  \n\n\n\nThe dynamic duo of USA DJ/Karaoke Entertainment will be the host and he promises that it will be an amazing time. Come on out to have a great time singing your favorite songs and enjoying some of Freddy J’s delicious food.
URL:https://freddyjs.com/event/karaoke-friday/2022-07-29/
LOCATION:Freddy J’s Bar & Kitchen\, 5698 Somers Point Road\, Mays Landing\, NJ\, 08330\, United States
CATEGORIES:Bar Events
ATTACH;FMTTYPE=image/png:https://freddyjs.com/wp-content/uploads/2022/02/Karaoke-Night-2022.png
END:VEVENT
BEGIN:VEVENT
DTSTART;TZID=America/New_York:20220727T190000
DTEND;TZID=America/New_York:20220727T210000
DTSTAMP:20260419T201321
CREATED:20211030T081737Z
LAST-MODIFIED:20231204T004934Z
UID:10001416-1658948400-1658955600@freddyjs.com
SUMMARY:Trivia Night
DESCRIPTION:Freddy J’s is hosting a trivia night on Wednesdays. The quizmasters will be DJ Bernie & Wally from USA DJ Entertainment!  \n\n\n\nTest your knowledge and win great prizes while enjoying drinks with friends.  \n\n\n\nGrab some appetizers while you’re at it!
URL:https://freddyjs.com/event/trivia-night/2022-07-27/
LOCATION:Freddy J’s Bar & Kitchen\, 5698 Somers Point Road\, Mays Landing\, NJ\, 08330\, United States
CATEGORIES:Bar Events
ATTACH;FMTTYPE=image/jpeg:https://freddyjs.com/wp-content/uploads/2022/05/Trivia-Night.jpg
END:VEVENT
BEGIN:VEVENT
DTSTART;TZID=America/New_York:20220722T190000
DTEND;TZID=America/New_York:20220722T230000
DTSTAMP:20260419T201321
CREATED:20211105T182046Z
LAST-MODIFIED:20220914T170315Z
UID:10000615-1658516400-1658530800@freddyjs.com
SUMMARY:Karaoke Friday at Freddy J's
DESCRIPTION:Have you been looking for a fun night out with friends? Well\, look no further! Freddy J’s Bar & Kitchen is hosting Karaoke Friday Night starting at 7:00 pm.  \n\n\n\nThe dynamic duo of USA DJ/Karaoke Entertainment will be the host and he promises that it will be an amazing time. Come on out to have a great time singing your favorite songs and enjoying some of Freddy J’s delicious food.
URL:https://freddyjs.com/event/karaoke-friday/2022-07-22/
LOCATION:Freddy J’s Bar & Kitchen\, 5698 Somers Point Road\, Mays Landing\, NJ\, 08330\, United States
CATEGORIES:Bar Events
ATTACH;FMTTYPE=image/png:https://freddyjs.com/wp-content/uploads/2022/02/Karaoke-Night-2022.png
END:VEVENT
BEGIN:VEVENT
DTSTART;TZID=America/New_York:20220720T190000
DTEND;TZID=America/New_York:20220720T210000
DTSTAMP:20260419T201321
CREATED:20211030T081737Z
LAST-MODIFIED:20231204T004934Z
UID:10001415-1658343600-1658350800@freddyjs.com
SUMMARY:Trivia Night
DESCRIPTION:Freddy J’s is hosting a trivia night on Wednesdays. The quizmasters will be DJ Bernie & Wally from USA DJ Entertainment!  \n\n\n\nTest your knowledge and win great prizes while enjoying drinks with friends.  \n\n\n\nGrab some appetizers while you’re at it!
URL:https://freddyjs.com/event/trivia-night/2022-07-20/
LOCATION:Freddy J’s Bar & Kitchen\, 5698 Somers Point Road\, Mays Landing\, NJ\, 08330\, United States
CATEGORIES:Bar Events
ATTACH;FMTTYPE=image/jpeg:https://freddyjs.com/wp-content/uploads/2022/05/Trivia-Night.jpg
END:VEVENT
BEGIN:VEVENT
DTSTART;TZID=America/New_York:20220715T190000
DTEND;TZID=America/New_York:20220715T230000
DTSTAMP:20260419T201321
CREATED:20211105T182046Z
LAST-MODIFIED:20220914T170315Z
UID:10000614-1657911600-1657926000@freddyjs.com
SUMMARY:Karaoke Friday at Freddy J's
DESCRIPTION:Have you been looking for a fun night out with friends? Well\, look no further! Freddy J’s Bar & Kitchen is hosting Karaoke Friday Night starting at 7:00 pm.  \n\n\n\nThe dynamic duo of USA DJ/Karaoke Entertainment will be the host and he promises that it will be an amazing time. Come on out to have a great time singing your favorite songs and enjoying some of Freddy J’s delicious food.
URL:https://freddyjs.com/event/karaoke-friday/2022-07-15/
LOCATION:Freddy J’s Bar & Kitchen\, 5698 Somers Point Road\, Mays Landing\, NJ\, 08330\, United States
CATEGORIES:Bar Events
ATTACH;FMTTYPE=image/png:https://freddyjs.com/wp-content/uploads/2022/02/Karaoke-Night-2022.png
END:VEVENT
BEGIN:VEVENT
DTSTART;TZID=America/New_York:20220713T190000
DTEND;TZID=America/New_York:20220713T210000
DTSTAMP:20260419T201321
CREATED:20211030T081737Z
LAST-MODIFIED:20231204T004934Z
UID:10001414-1657738800-1657746000@freddyjs.com
SUMMARY:Trivia Night
DESCRIPTION:Freddy J’s is hosting a trivia night on Wednesdays. The quizmasters will be DJ Bernie & Wally from USA DJ Entertainment!  \n\n\n\nTest your knowledge and win great prizes while enjoying drinks with friends.  \n\n\n\nGrab some appetizers while you’re at it!
URL:https://freddyjs.com/event/trivia-night/2022-07-13/
LOCATION:Freddy J’s Bar & Kitchen\, 5698 Somers Point Road\, Mays Landing\, NJ\, 08330\, United States
CATEGORIES:Bar Events
ATTACH;FMTTYPE=image/jpeg:https://freddyjs.com/wp-content/uploads/2022/05/Trivia-Night.jpg
END:VEVENT
BEGIN:VEVENT
DTSTART;TZID=America/New_York:20220708T190000
DTEND;TZID=America/New_York:20220708T230000
DTSTAMP:20260419T201321
CREATED:20211105T182046Z
LAST-MODIFIED:20220914T170315Z
UID:10000613-1657306800-1657321200@freddyjs.com
SUMMARY:Karaoke Friday at Freddy J's
DESCRIPTION:Have you been looking for a fun night out with friends? Well\, look no further! Freddy J’s Bar & Kitchen is hosting Karaoke Friday Night starting at 7:00 pm.  \n\n\n\nThe dynamic duo of USA DJ/Karaoke Entertainment will be the host and he promises that it will be an amazing time. Come on out to have a great time singing your favorite songs and enjoying some of Freddy J’s delicious food.
URL:https://freddyjs.com/event/karaoke-friday/2022-07-08/
LOCATION:Freddy J’s Bar & Kitchen\, 5698 Somers Point Road\, Mays Landing\, NJ\, 08330\, United States
CATEGORIES:Bar Events
ATTACH;FMTTYPE=image/png:https://freddyjs.com/wp-content/uploads/2022/02/Karaoke-Night-2022.png
END:VEVENT
BEGIN:VEVENT
DTSTART;TZID=America/New_York:20220706T190000
DTEND;TZID=America/New_York:20220706T210000
DTSTAMP:20260419T201321
CREATED:20211030T081737Z
LAST-MODIFIED:20231204T004934Z
UID:10001413-1657134000-1657141200@freddyjs.com
SUMMARY:Trivia Night
DESCRIPTION:Freddy J’s is hosting a trivia night on Wednesdays. The quizmasters will be DJ Bernie & Wally from USA DJ Entertainment!  \n\n\n\nTest your knowledge and win great prizes while enjoying drinks with friends.  \n\n\n\nGrab some appetizers while you’re at it!
URL:https://freddyjs.com/event/trivia-night/2022-07-06/
LOCATION:Freddy J’s Bar & Kitchen\, 5698 Somers Point Road\, Mays Landing\, NJ\, 08330\, United States
CATEGORIES:Bar Events
ATTACH;FMTTYPE=image/jpeg:https://freddyjs.com/wp-content/uploads/2022/05/Trivia-Night.jpg
END:VEVENT
BEGIN:VEVENT
DTSTART;TZID=America/New_York:20220701T190000
DTEND;TZID=America/New_York:20220701T230000
DTSTAMP:20260419T201321
CREATED:20211105T182046Z
LAST-MODIFIED:20220914T170315Z
UID:10000612-1656702000-1656716400@freddyjs.com
SUMMARY:Karaoke Friday at Freddy J's
DESCRIPTION:Have you been looking for a fun night out with friends? Well\, look no further! Freddy J’s Bar & Kitchen is hosting Karaoke Friday Night starting at 7:00 pm.  \n\n\n\nThe dynamic duo of USA DJ/Karaoke Entertainment will be the host and he promises that it will be an amazing time. Come on out to have a great time singing your favorite songs and enjoying some of Freddy J’s delicious food.
URL:https://freddyjs.com/event/karaoke-friday/2022-07-01/
LOCATION:Freddy J’s Bar & Kitchen\, 5698 Somers Point Road\, Mays Landing\, NJ\, 08330\, United States
CATEGORIES:Bar Events
ATTACH;FMTTYPE=image/png:https://freddyjs.com/wp-content/uploads/2022/02/Karaoke-Night-2022.png
END:VEVENT
BEGIN:VEVENT
DTSTART;TZID=America/New_York:20220629T190000
DTEND;TZID=America/New_York:20220629T210000
DTSTAMP:20260419T201321
CREATED:20211030T081737Z
LAST-MODIFIED:20231204T004934Z
UID:10001412-1656529200-1656536400@freddyjs.com
SUMMARY:Trivia Night
DESCRIPTION:Freddy J’s is hosting a trivia night on Wednesdays. The quizmasters will be DJ Bernie & Wally from USA DJ Entertainment!  \n\n\n\nTest your knowledge and win great prizes while enjoying drinks with friends.  \n\n\n\nGrab some appetizers while you’re at it!
URL:https://freddyjs.com/event/trivia-night/2022-06-29/
LOCATION:Freddy J’s Bar & Kitchen\, 5698 Somers Point Road\, Mays Landing\, NJ\, 08330\, United States
CATEGORIES:Bar Events
ATTACH;FMTTYPE=image/jpeg:https://freddyjs.com/wp-content/uploads/2022/05/Trivia-Night.jpg
END:VEVENT
BEGIN:VEVENT
DTSTART;TZID=America/New_York:20220624T190000
DTEND;TZID=America/New_York:20220624T230000
DTSTAMP:20260419T201321
CREATED:20211105T182046Z
LAST-MODIFIED:20220914T170315Z
UID:10000611-1656097200-1656111600@freddyjs.com
SUMMARY:Karaoke Friday at Freddy J's
DESCRIPTION:Have you been looking for a fun night out with friends? Well\, look no further! Freddy J’s Bar & Kitchen is hosting Karaoke Friday Night starting at 7:00 pm.  \n\n\n\nThe dynamic duo of USA DJ/Karaoke Entertainment will be the host and he promises that it will be an amazing time. Come on out to have a great time singing your favorite songs and enjoying some of Freddy J’s delicious food.
URL:https://freddyjs.com/event/karaoke-friday/2022-06-24/
LOCATION:Freddy J’s Bar & Kitchen\, 5698 Somers Point Road\, Mays Landing\, NJ\, 08330\, United States
CATEGORIES:Bar Events
ATTACH;FMTTYPE=image/png:https://freddyjs.com/wp-content/uploads/2022/02/Karaoke-Night-2022.png
END:VEVENT
BEGIN:VEVENT
DTSTART;TZID=America/New_York:20220622T190000
DTEND;TZID=America/New_York:20220622T210000
DTSTAMP:20260419T201321
CREATED:20211030T081737Z
LAST-MODIFIED:20231204T004934Z
UID:10001411-1655924400-1655931600@freddyjs.com
SUMMARY:Trivia Night
DESCRIPTION:Freddy J’s is hosting a trivia night on Wednesdays. The quizmasters will be DJ Bernie & Wally from USA DJ Entertainment!  \n\n\n\nTest your knowledge and win great prizes while enjoying drinks with friends.  \n\n\n\nGrab some appetizers while you’re at it!
URL:https://freddyjs.com/event/trivia-night/2022-06-22/
LOCATION:Freddy J’s Bar & Kitchen\, 5698 Somers Point Road\, Mays Landing\, NJ\, 08330\, United States
CATEGORIES:Bar Events
ATTACH;FMTTYPE=image/jpeg:https://freddyjs.com/wp-content/uploads/2022/05/Trivia-Night.jpg
END:VEVENT
BEGIN:VEVENT
DTSTART;TZID=America/New_York:20220617T190000
DTEND;TZID=America/New_York:20220617T230000
DTSTAMP:20260419T201321
CREATED:20211105T182046Z
LAST-MODIFIED:20220914T170315Z
UID:10000610-1655492400-1655506800@freddyjs.com
SUMMARY:Karaoke Friday at Freddy J's
DESCRIPTION:Have you been looking for a fun night out with friends? Well\, look no further! Freddy J’s Bar & Kitchen is hosting Karaoke Friday Night starting at 7:00 pm.  \n\n\n\nThe dynamic duo of USA DJ/Karaoke Entertainment will be the host and he promises that it will be an amazing time. Come on out to have a great time singing your favorite songs and enjoying some of Freddy J’s delicious food.
URL:https://freddyjs.com/event/karaoke-friday/2022-06-17/
LOCATION:Freddy J’s Bar & Kitchen\, 5698 Somers Point Road\, Mays Landing\, NJ\, 08330\, United States
CATEGORIES:Bar Events
ATTACH;FMTTYPE=image/png:https://freddyjs.com/wp-content/uploads/2022/02/Karaoke-Night-2022.png
END:VEVENT
BEGIN:VEVENT
DTSTART;TZID=America/New_York:20220615T190000
DTEND;TZID=America/New_York:20220615T210000
DTSTAMP:20260419T201321
CREATED:20211030T081737Z
LAST-MODIFIED:20231204T004934Z
UID:10001410-1655319600-1655326800@freddyjs.com
SUMMARY:Trivia Night
DESCRIPTION:Freddy J’s is hosting a trivia night on Wednesdays. The quizmasters will be DJ Bernie & Wally from USA DJ Entertainment!  \n\n\n\nTest your knowledge and win great prizes while enjoying drinks with friends.  \n\n\n\nGrab some appetizers while you’re at it!
URL:https://freddyjs.com/event/trivia-night/2022-06-15/
LOCATION:Freddy J’s Bar & Kitchen\, 5698 Somers Point Road\, Mays Landing\, NJ\, 08330\, United States
CATEGORIES:Bar Events
ATTACH;FMTTYPE=image/jpeg:https://freddyjs.com/wp-content/uploads/2022/05/Trivia-Night.jpg
END:VEVENT
BEGIN:VEVENT
DTSTART;TZID=America/New_York:20220610T190000
DTEND;TZID=America/New_York:20220610T230000
DTSTAMP:20260419T201321
CREATED:20211105T182046Z
LAST-MODIFIED:20220914T170315Z
UID:10000609-1654887600-1654902000@freddyjs.com
SUMMARY:Karaoke Friday at Freddy J's
DESCRIPTION:Have you been looking for a fun night out with friends? Well\, look no further! Freddy J’s Bar & Kitchen is hosting Karaoke Friday Night starting at 7:00 pm.  \n\n\n\nThe dynamic duo of USA DJ/Karaoke Entertainment will be the host and he promises that it will be an amazing time. Come on out to have a great time singing your favorite songs and enjoying some of Freddy J’s delicious food.
URL:https://freddyjs.com/event/karaoke-friday/2022-06-10/
LOCATION:Freddy J’s Bar & Kitchen\, 5698 Somers Point Road\, Mays Landing\, NJ\, 08330\, United States
CATEGORIES:Bar Events
ATTACH;FMTTYPE=image/png:https://freddyjs.com/wp-content/uploads/2022/02/Karaoke-Night-2022.png
END:VEVENT
BEGIN:VEVENT
DTSTART;TZID=America/New_York:20220608T190000
DTEND;TZID=America/New_York:20220608T210000
DTSTAMP:20260419T201321
CREATED:20211030T081737Z
LAST-MODIFIED:20231204T004934Z
UID:10001409-1654714800-1654722000@freddyjs.com
SUMMARY:Trivia Night
DESCRIPTION:Freddy J’s is hosting a trivia night on Wednesdays. The quizmasters will be DJ Bernie & Wally from USA DJ Entertainment!  \n\n\n\nTest your knowledge and win great prizes while enjoying drinks with friends.  \n\n\n\nGrab some appetizers while you’re at it!
URL:https://freddyjs.com/event/trivia-night/2022-06-08/
LOCATION:Freddy J’s Bar & Kitchen\, 5698 Somers Point Road\, Mays Landing\, NJ\, 08330\, United States
CATEGORIES:Bar Events
ATTACH;FMTTYPE=image/jpeg:https://freddyjs.com/wp-content/uploads/2022/05/Trivia-Night.jpg
END:VEVENT
BEGIN:VEVENT
DTSTART;TZID=America/New_York:20220603T190000
DTEND;TZID=America/New_York:20220603T230000
DTSTAMP:20260419T201321
CREATED:20211105T182046Z
LAST-MODIFIED:20220914T170315Z
UID:10000608-1654282800-1654297200@freddyjs.com
SUMMARY:Karaoke Friday at Freddy J's
DESCRIPTION:Have you been looking for a fun night out with friends? Well\, look no further! Freddy J’s Bar & Kitchen is hosting Karaoke Friday Night starting at 7:00 pm.  \n\n\n\nThe dynamic duo of USA DJ/Karaoke Entertainment will be the host and he promises that it will be an amazing time. Come on out to have a great time singing your favorite songs and enjoying some of Freddy J’s delicious food.
URL:https://freddyjs.com/event/karaoke-friday/2022-06-03/
LOCATION:Freddy J’s Bar & Kitchen\, 5698 Somers Point Road\, Mays Landing\, NJ\, 08330\, United States
CATEGORIES:Bar Events
ATTACH;FMTTYPE=image/png:https://freddyjs.com/wp-content/uploads/2022/02/Karaoke-Night-2022.png
END:VEVENT
BEGIN:VEVENT
DTSTART;TZID=America/New_York:20220601T190000
DTEND;TZID=America/New_York:20220601T210000
DTSTAMP:20260419T201321
CREATED:20211030T081737Z
LAST-MODIFIED:20231204T004934Z
UID:10001408-1654110000-1654117200@freddyjs.com
SUMMARY:Trivia Night
DESCRIPTION:Freddy J’s is hosting a trivia night on Wednesdays. The quizmasters will be DJ Bernie & Wally from USA DJ Entertainment!  \n\n\n\nTest your knowledge and win great prizes while enjoying drinks with friends.  \n\n\n\nGrab some appetizers while you’re at it!
URL:https://freddyjs.com/event/trivia-night/2022-06-01/
LOCATION:Freddy J’s Bar & Kitchen\, 5698 Somers Point Road\, Mays Landing\, NJ\, 08330\, United States
CATEGORIES:Bar Events
ATTACH;FMTTYPE=image/jpeg:https://freddyjs.com/wp-content/uploads/2022/05/Trivia-Night.jpg
END:VEVENT
BEGIN:VEVENT
DTSTART;TZID=America/New_York:20220527T190000
DTEND;TZID=America/New_York:20220527T230000
DTSTAMP:20260419T201321
CREATED:20211105T182046Z
LAST-MODIFIED:20220914T170315Z
UID:10000607-1653678000-1653692400@freddyjs.com
SUMMARY:Karaoke Friday at Freddy J's
DESCRIPTION:Have you been looking for a fun night out with friends? Well\, look no further! Freddy J’s Bar & Kitchen is hosting Karaoke Friday Night starting at 7:00 pm.  \n\n\n\nThe dynamic duo of USA DJ/Karaoke Entertainment will be the host and he promises that it will be an amazing time. Come on out to have a great time singing your favorite songs and enjoying some of Freddy J’s delicious food.
URL:https://freddyjs.com/event/karaoke-friday/2022-05-27/
LOCATION:Freddy J’s Bar & Kitchen\, 5698 Somers Point Road\, Mays Landing\, NJ\, 08330\, United States
CATEGORIES:Bar Events
ATTACH;FMTTYPE=image/png:https://freddyjs.com/wp-content/uploads/2022/02/Karaoke-Night-2022.png
END:VEVENT
BEGIN:VEVENT
DTSTART;TZID=America/New_York:20220525T190000
DTEND;TZID=America/New_York:20220525T210000
DTSTAMP:20260419T201321
CREATED:20211030T081737Z
LAST-MODIFIED:20231204T004934Z
UID:10001407-1653505200-1653512400@freddyjs.com
SUMMARY:Trivia Night
DESCRIPTION:Freddy J’s is hosting a trivia night on Wednesdays. The quizmasters will be DJ Bernie & Wally from USA DJ Entertainment!  \n\n\n\nTest your knowledge and win great prizes while enjoying drinks with friends.  \n\n\n\nGrab some appetizers while you’re at it!
URL:https://freddyjs.com/event/trivia-night/2022-05-25/
LOCATION:Freddy J’s Bar & Kitchen\, 5698 Somers Point Road\, Mays Landing\, NJ\, 08330\, United States
CATEGORIES:Bar Events
ATTACH;FMTTYPE=image/jpeg:https://freddyjs.com/wp-content/uploads/2022/05/Trivia-Night.jpg
END:VEVENT
END:VCALENDAR