BEGIN:VCALENDAR
VERSION:2.0
PRODID:-//Freddy J&#039;s Bar &amp; Kitchen - ECPv6.15.20//NONSGML v1.0//EN
CALSCALE:GREGORIAN
METHOD:PUBLISH
X-WR-CALNAME:Freddy J&#039;s Bar &amp; Kitchen
X-ORIGINAL-URL:https://freddyjs.com
X-WR-CALDESC:Events for Freddy J&#039;s Bar &amp; Kitchen
REFRESH-INTERVAL;VALUE=DURATION:PT1H
X-Robots-Tag:noindex
X-PUBLISHED-TTL:PT1H
BEGIN:VTIMEZONE
TZID:America/New_York
BEGIN:DAYLIGHT
TZOFFSETFROM:-0500
TZOFFSETTO:-0400
TZNAME:EDT
DTSTART:20190310T070000
END:DAYLIGHT
BEGIN:STANDARD
TZOFFSETFROM:-0400
TZOFFSETTO:-0500
TZNAME:EST
DTSTART:20191103T060000
END:STANDARD
BEGIN:DAYLIGHT
TZOFFSETFROM:-0500
TZOFFSETTO:-0400
TZNAME:EDT
DTSTART:20200308T070000
END:DAYLIGHT
BEGIN:STANDARD
TZOFFSETFROM:-0400
TZOFFSETTO:-0500
TZNAME:EST
DTSTART:20201101T060000
END:STANDARD
BEGIN:DAYLIGHT
TZOFFSETFROM:-0500
TZOFFSETTO:-0400
TZNAME:EDT
DTSTART:20210314T070000
END:DAYLIGHT
BEGIN:STANDARD
TZOFFSETFROM:-0400
TZOFFSETTO:-0500
TZNAME:EST
DTSTART:20211107T060000
END:STANDARD
END:VTIMEZONE
BEGIN:VEVENT
DTSTART;TZID=America/New_York:20201031T180000
DTEND;TZID=America/New_York:20201031T234500
DTSTAMP:20260421T073147
CREATED:20201030T214245Z
LAST-MODIFIED:20210125T063600Z
UID:10000529-1604167200-1604187900@freddyjs.com
SUMMARY:Freddy J's Bar & Kitchen's 1st Annual Halloween Party
DESCRIPTION:Join us for a spooky night of spirits! Dress to impress as the top costumes will win a FUN PRIZE! The more creative the better\, and be sure to incorporate your mask!
URL:https://freddyjs.com/event/1st-annual-halloween-party/
LOCATION:Freddy J’s Bar & Kitchen\, 5698 Somers Point Road\, Mays Landing\, NJ\, 08330\, United States
CATEGORIES:Bar Events
ATTACH;FMTTYPE=image/jpeg:https://freddyjs.com/wp-content/uploads/2020/10/123169073_159593479212231_3116970543637645314_o-e1604094849570.jpg
ORGANIZER;CN="Freddy J's Bar & Kitchen":MAILTO:info@freddyjs.com
END:VEVENT
BEGIN:VEVENT
DTSTART;TZID=America/New_York:20201023T110000
DTEND;TZID=America/New_York:20201024T020000
DTSTAMP:20260421T073147
CREATED:20201007T012416Z
LAST-MODIFIED:20210125T063601Z
UID:10000528-1603450800-1603504800@freddyjs.com
SUMMARY:Grand Opening
DESCRIPTION:Come join the Kneble family as they open up Freddy J’s Bar & Kitchen to the Mays Landing community!
URL:https://freddyjs.com/event/grand-opening/
LOCATION:Freddy J’s Bar & Kitchen\, 5698 Somers Point Road\, Mays Landing\, NJ\, 08330\, United States
CATEGORIES:Bar Events
ATTACH;FMTTYPE=image/png:https://freddyjs.com/wp-content/uploads/2020/10/Artboard-1.png
ORGANIZER;CN="Freddy J's Bar & Kitchen":MAILTO:info@freddyjs.com
END:VEVENT
END:VCALENDAR