BEGIN:VCALENDAR
VERSION:2.0
PRODID:-//Freddy J&#039;s Bar &amp; Kitchen - ECPv6.15.20//NONSGML v1.0//EN
CALSCALE:GREGORIAN
METHOD:PUBLISH
X-ORIGINAL-URL:https://freddyjs.com
X-WR-CALDESC:Events for Freddy J&#039;s Bar &amp; Kitchen
REFRESH-INTERVAL;VALUE=DURATION:PT1H
X-Robots-Tag:noindex
X-PUBLISHED-TTL:PT1H
BEGIN:VTIMEZONE
TZID:America/New_York
BEGIN:DAYLIGHT
TZOFFSETFROM:-0500
TZOFFSETTO:-0400
TZNAME:EDT
DTSTART:20240310T070000
END:DAYLIGHT
BEGIN:STANDARD
TZOFFSETFROM:-0400
TZOFFSETTO:-0500
TZNAME:EST
DTSTART:20241103T060000
END:STANDARD
BEGIN:DAYLIGHT
TZOFFSETFROM:-0500
TZOFFSETTO:-0400
TZNAME:EDT
DTSTART:20250309T070000
END:DAYLIGHT
BEGIN:STANDARD
TZOFFSETFROM:-0400
TZOFFSETTO:-0500
TZNAME:EST
DTSTART:20251102T060000
END:STANDARD
BEGIN:DAYLIGHT
TZOFFSETFROM:-0500
TZOFFSETTO:-0400
TZNAME:EDT
DTSTART:20260308T070000
END:DAYLIGHT
BEGIN:STANDARD
TZOFFSETFROM:-0400
TZOFFSETTO:-0500
TZNAME:EST
DTSTART:20261101T060000
END:STANDARD
END:VTIMEZONE
BEGIN:VEVENT
DTSTART;TZID=America/New_York:20250406T150000
DTEND;TZID=America/New_York:20250406T190000
DTSTAMP:20260419T090355
CREATED:20250316T232729Z
LAST-MODIFIED:20250316T232731Z
UID:10001658-1743951600-1743966000@freddyjs.com
SUMMARY:Emo Night Matinee Returns
DESCRIPTION:March was just the beginning—Emo Night Matinee is back for round two on Sunday\, April 6th! Join us as DJ Jordan Harris spins all your favorite emo and pop-punk anthems\, bringing back the songs that still hit like a teenage heartbreak. \n\n\n\nStart the day with brunch at Freddy J’s to pregame properly (because nothing says “I’m fine” like a mimosa and waffles). Then\, stick around for all-day Happy Hour and let the music take you back to the days of side bangs\, skinny jeans\, and deep\, emotional lyrics. \n\n\n\nThe best part? You can belt out every word\, relive your MySpace era\, and still be home at a responsible hour. Eyeliner is optional\, but let’s be real—you know you want to. 🖤 \n\n\n\n📅 It all goes down on Sunday\, April 6th—because Sundays should be sad in the best way possible.
URL:https://freddyjs.com/event/emo-night-matinee-returns/
LOCATION:Freddy J’s Bar & Kitchen\, 5698 Somers Point Road\, Mays Landing\, NJ\, 08330\, United States
CATEGORIES:Bar Events
ATTACH;FMTTYPE=image/jpeg:https://freddyjs.com/wp-content/uploads/2025/02/Emo-Night-Matinee.jpg
END:VEVENT
END:VCALENDAR