BEGIN:VCALENDAR
VERSION:2.0
PRODID:-//Freddy J&#039;s Bar &amp; Kitchen - ECPv6.15.20//NONSGML v1.0//EN
CALSCALE:GREGORIAN
METHOD:PUBLISH
X-ORIGINAL-URL:https://freddyjs.com
X-WR-CALDESC:Events for Freddy J&#039;s Bar &amp; Kitchen
REFRESH-INTERVAL;VALUE=DURATION:PT1H
X-Robots-Tag:noindex
X-PUBLISHED-TTL:PT1H
BEGIN:VTIMEZONE
TZID:America/New_York
BEGIN:DAYLIGHT
TZOFFSETFROM:-0500
TZOFFSETTO:-0400
TZNAME:EDT
DTSTART:20230312T070000
END:DAYLIGHT
BEGIN:STANDARD
TZOFFSETFROM:-0400
TZOFFSETTO:-0500
TZNAME:EST
DTSTART:20231105T060000
END:STANDARD
BEGIN:DAYLIGHT
TZOFFSETFROM:-0500
TZOFFSETTO:-0400
TZNAME:EDT
DTSTART:20240310T070000
END:DAYLIGHT
BEGIN:STANDARD
TZOFFSETFROM:-0400
TZOFFSETTO:-0500
TZNAME:EST
DTSTART:20241103T060000
END:STANDARD
BEGIN:DAYLIGHT
TZOFFSETFROM:-0500
TZOFFSETTO:-0400
TZNAME:EDT
DTSTART:20250309T070000
END:DAYLIGHT
BEGIN:STANDARD
TZOFFSETFROM:-0400
TZOFFSETTO:-0500
TZNAME:EST
DTSTART:20251102T060000
END:STANDARD
END:VTIMEZONE
BEGIN:VEVENT
DTSTART;TZID=America/New_York:20240921T120000
DTEND;TZID=America/New_York:20241006T210000
DTSTAMP:20260419T085033
CREATED:20240915T222226Z
LAST-MODIFIED:20250217T073540Z
UID:10001609-1726920000-1728248400@freddyjs.com
SUMMARY:Oktoberfest at Freddy J's Bar & Kitchen!
DESCRIPTION:Join us from September 21st to October 6th as we celebrate Oktoberfest with a menu filled with delicious German specials! Enjoy traditional favorites like: \n\n\n\n\n\n\n\n \n\n\n\nSchnitzel & Potato Pancake\n\n\n\nFried chicken schnitzel +caramelized onions + fried potato pancake \n\n\n\n\n\n\n\n \n\n\n\nBratwurst Handheld\n\n\n\nBratwurst + spicy mustard + sauerkraut + seeded long roll + house chips \n\n\n\n\n\n\n\n \n\n\n\nBavarian Pretzel\n\n\n\nBavarian pretzel + cinnamon cream sauce + spicy mustard + beer cheese \n\n\n\nBeers \n\n\n\n\nHaufbrau\n\n\n\nHaufbrau Oktoberfest\n\n\n\nSamuel Adams Oktoberfest\n\n\n\nCape May Oktoberfest\n\n\n\n\nIt’s the perfect way to experience the tastes of Bavaria without leaving town! \n\n\n\nDon’t Miss Our Oktoberfest Party!\n\n\n\nOn Saturday\, October 5th\, from 7 pm to 11 pm\, we’re hosting an Oktoberfest party like no other! The night will feature great music from our favorite\, DJ Jordan\, festive décor\, and a lively crowd. Grab your friends and come enjoy the fun! \n\n\n\nStein Holding Contest – Are You Up for the Challenge?\n\n\n\nAt 8 pm on October 5th\, we’ll kick off our Stein Holding Contest\, where participants will compete to see who can hold a full 1-liter stein of beer the longest. It’s a fun test of endurance with a prize for the champion! \n\n\n\nFor a $25 entry fee\, every participant gets a souvenir stein to keep\, a beer to fill it\, and a backup beer in case of spills. It’s a fun challenge of endurance with a prize for the champion. \n\n\n\nThink you’ve got what it takes? Come show us! \n\n\n\nGather your crew\, dress in your best lederhosen or dirndl\, and join us at Freddy J’s for a memorable Oktoberfest celebration. Prost!
URL:https://freddyjs.com/event/oktoberfest2024/
LOCATION:Freddy J’s Bar & Kitchen\, 5698 Somers Point Road\, Mays Landing\, NJ\, 08330\, United States
CATEGORIES:Holidays
ATTACH;FMTTYPE=image/jpeg:https://freddyjs.com/wp-content/uploads/2024/09/Oktoberfest.jpg
END:VEVENT
END:VCALENDAR