BEGIN:VCALENDAR
VERSION:2.0
PRODID:-//Freddy J&#039;s Bar &amp; Kitchen - ECPv6.15.20//NONSGML v1.0//EN
CALSCALE:GREGORIAN
METHOD:PUBLISH
X-WR-CALNAME:Freddy J&#039;s Bar &amp; Kitchen
X-ORIGINAL-URL:https://freddyjs.com
X-WR-CALDESC:Events for Freddy J&#039;s Bar &amp; Kitchen
REFRESH-INTERVAL;VALUE=DURATION:PT1H
X-Robots-Tag:noindex
X-PUBLISHED-TTL:PT1H
BEGIN:VTIMEZONE
TZID:America/New_York
BEGIN:DAYLIGHT
TZOFFSETFROM:-0500
TZOFFSETTO:-0400
TZNAME:EDT
DTSTART:20220313T070000
END:DAYLIGHT
BEGIN:STANDARD
TZOFFSETFROM:-0400
TZOFFSETTO:-0500
TZNAME:EST
DTSTART:20221106T060000
END:STANDARD
BEGIN:DAYLIGHT
TZOFFSETFROM:-0500
TZOFFSETTO:-0400
TZNAME:EDT
DTSTART:20230312T070000
END:DAYLIGHT
BEGIN:STANDARD
TZOFFSETFROM:-0400
TZOFFSETTO:-0500
TZNAME:EST
DTSTART:20231105T060000
END:STANDARD
BEGIN:DAYLIGHT
TZOFFSETFROM:-0500
TZOFFSETTO:-0400
TZNAME:EDT
DTSTART:20240310T070000
END:DAYLIGHT
BEGIN:STANDARD
TZOFFSETFROM:-0400
TZOFFSETTO:-0500
TZNAME:EST
DTSTART:20241103T060000
END:STANDARD
END:VTIMEZONE
BEGIN:VEVENT
DTSTART;TZID=America/New_York:20231109T190000
DTEND;TZID=America/New_York:20231109T210000
DTSTAMP:20260419T091705
CREATED:20230920T193559Z
LAST-MODIFIED:20231109T135932Z
UID:10001551-1699556400-1699563600@freddyjs.com
SUMMARY:Mays Landing Cornhole League - Fall 2023 Playoffs
DESCRIPTION:Championship Week: Who Will Claim Victory? \n\n\n\nThe moment we’ve all been waiting for: the Championship of the Mays Landing Cornhole League! After weeks of thrilling games and hard-fought victories\, it all comes down to this. Freddy J’s Bar & Kitchen will be excitedly buzzing this Thursday at 7:00 pm. Be there to witness history in the making!
URL:https://freddyjs.com/event/mays-landing-cornhole-league-fall-2023-playoffs/
LOCATION:Freddy J’s Bar & Kitchen\, 5698 Somers Point Road\, Mays Landing\, NJ\, 08330\, United States
CATEGORIES:Mays Landing Cornhole League
ATTACH;FMTTYPE=image/jpeg:https://freddyjs.com/wp-content/uploads/2023/04/Corn-hole-league.jpg
END:VEVENT
END:VCALENDAR