BEGIN:VCALENDAR
VERSION:2.0
PRODID:-//Freddy J&#039;s Bar &amp; Kitchen - ECPv6.15.20//NONSGML v1.0//EN
CALSCALE:GREGORIAN
METHOD:PUBLISH
X-ORIGINAL-URL:https://freddyjs.com
X-WR-CALDESC:Events for Freddy J&#039;s Bar &amp; Kitchen
REFRESH-INTERVAL;VALUE=DURATION:PT1H
X-Robots-Tag:noindex
X-PUBLISHED-TTL:PT1H
BEGIN:VTIMEZONE
TZID:America/New_York
BEGIN:DAYLIGHT
TZOFFSETFROM:-0500
TZOFFSETTO:-0400
TZNAME:EDT
DTSTART:20220313T070000
END:DAYLIGHT
BEGIN:STANDARD
TZOFFSETFROM:-0400
TZOFFSETTO:-0500
TZNAME:EST
DTSTART:20221106T060000
END:STANDARD
BEGIN:DAYLIGHT
TZOFFSETFROM:-0500
TZOFFSETTO:-0400
TZNAME:EDT
DTSTART:20230312T070000
END:DAYLIGHT
BEGIN:STANDARD
TZOFFSETFROM:-0400
TZOFFSETTO:-0500
TZNAME:EST
DTSTART:20231105T060000
END:STANDARD
BEGIN:DAYLIGHT
TZOFFSETFROM:-0500
TZOFFSETTO:-0400
TZNAME:EDT
DTSTART:20240310T070000
END:DAYLIGHT
BEGIN:STANDARD
TZOFFSETFROM:-0400
TZOFFSETTO:-0500
TZNAME:EST
DTSTART:20241103T060000
END:STANDARD
END:VTIMEZONE
BEGIN:VEVENT
DTSTART;TZID=America/New_York:20230511T190000
DTEND;TZID=America/New_York:20230511T230000
DTSTAMP:20260420T084207
CREATED:20221116T183653Z
LAST-MODIFIED:20250205T101548Z
UID:10001180-1683831600-1683846000@freddyjs.com
SUMMARY:Karaoke Thursdays
DESCRIPTION:Have you been looking for a fun night out with friends? Well\, look no further! Freddy J’s Bar & Kitchen hosts Karaoke Thursday at 7:00 pm.  \n\n\n\nThe dynamic duo of USA DJ/Karaoke Entertainment will be the host\, and they promise it will be a fantastic time.  \n\n\n\nCome to sing your favorite songs and enjoy some of Freddy J’s delicious food.
URL:https://freddyjs.com/event/karaoke-friday-at-freddy-js-3/2023-05-11/
LOCATION:Freddy J’s Bar & Kitchen\, 5698 Somers Point Road\, Mays Landing\, NJ\, 08330\, United States
CATEGORIES:Bar Events
ATTACH;FMTTYPE=image/jpeg:https://freddyjs.com/wp-content/uploads/2022/11/Karaoke-Night-1.jpg
END:VEVENT
END:VCALENDAR