BEGIN:VCALENDAR
VERSION:2.0
PRODID:-//Freddy J&#039;s Bar &amp; Kitchen - ECPv6.15.20//NONSGML v1.0//EN
CALSCALE:GREGORIAN
METHOD:PUBLISH
X-WR-CALNAME:Freddy J&#039;s Bar &amp; Kitchen
X-ORIGINAL-URL:https://freddyjs.com
X-WR-CALDESC:Events for Freddy J&#039;s Bar &amp; Kitchen
REFRESH-INTERVAL;VALUE=DURATION:PT1H
X-Robots-Tag:noindex
X-PUBLISHED-TTL:PT1H
BEGIN:VTIMEZONE
TZID:America/New_York
BEGIN:DAYLIGHT
TZOFFSETFROM:-0500
TZOFFSETTO:-0400
TZNAME:EDT
DTSTART:20220313T070000
END:DAYLIGHT
BEGIN:STANDARD
TZOFFSETFROM:-0400
TZOFFSETTO:-0500
TZNAME:EST
DTSTART:20221106T060000
END:STANDARD
BEGIN:DAYLIGHT
TZOFFSETFROM:-0500
TZOFFSETTO:-0400
TZNAME:EDT
DTSTART:20230312T070000
END:DAYLIGHT
BEGIN:STANDARD
TZOFFSETFROM:-0400
TZOFFSETTO:-0500
TZNAME:EST
DTSTART:20231105T060000
END:STANDARD
BEGIN:DAYLIGHT
TZOFFSETFROM:-0500
TZOFFSETTO:-0400
TZNAME:EDT
DTSTART:20240310T070000
END:DAYLIGHT
BEGIN:STANDARD
TZOFFSETFROM:-0400
TZOFFSETTO:-0500
TZNAME:EST
DTSTART:20241103T060000
END:STANDARD
END:VTIMEZONE
BEGIN:VEVENT
DTSTART;TZID=America/New_York:20230317T120000
DTEND;TZID=America/New_York:20230317T230000
DTSTAMP:20260420T061727
CREATED:20230316T220434Z
LAST-MODIFIED:20230316T220849Z
UID:10001488-1679054400-1679094000@freddyjs.com
SUMMARY:Experience the Magic of St. Paddy's Day at Freddy J's Bar & Kitchen!
DESCRIPTION:Are you ready to unleash your inner leprechaun? Freddy J’s Bar & Kitchen is hosting an incredible St. Paddy’s Day Weekend Celebration filled with mouthwatering food and fabulous drinks. Join us tomorrow and all weekend long (until it’s sold out) for a feast that’ll make you feel like you’ve found a pot of gold! \n\n\n\nDiscover Our Tasty St. Paddy’s Day Specials: \n\n\n\nFood Specials: \n\n\n\n\nCorned Beef Special ($17) – Our succulent house-made corned beef & cabbage is a St. Paddy’s Day must-have! Served with warm soda bread\, tender potatoes\, and carrots\, this dish is sure to delight your taste buds.\n\n\n\nCorned Beef Sandwich ($12) – Enjoy a unique twist on a classic favorite with our flavorful corned beef sandwich. Served on rye bread with mustard or Russian dressing and a side of coleslaw\, it’s the perfect combination of flavors.\n\n\n\nCorned Beef Egg Rolls ($12) – For a one-of-a-kind treat\, try our creative corned beef egg rolls\, complete with pickles\, cabbage\, and a delectable sauce. It’s a fusion of Irish and Asian flavors you won’t want to miss!\n\n\n\n\nDrink Specials: \n\n\n\n\nTullamore Dew ($5) – Indulge in this Irish whiskey’s smooth\, classic taste as you toast St. Paddy’s Day.\n\n\n\nGuinness ($5) – No St. Paddy’s Day celebration is complete without a pint of this iconic Irish stout.\n\n\n\nJameson ($5) – Choose from our stout\, orange\, and cold brew Jameson creations\, perfect for the occasion and guaranteed to bring out your festive spirit.\n\n\n\nGreen Tea Shot ($7) – Everyone’s favorite shot with Jameson\n\n\n\nIrish Mule ($10) – Refresh yourself with our zesty\, ginger-infused Irish Mule\, a delightful twist on a classic cocktail.\n\n\n\nIrish Car Bomb ($10) – Get the party started with this indulgent\, celebratory drink that will make you feel lucky.\n\n\n\nLiquid Luck ($12) – Sip on our enchanting concoction; it might bring some luck!\n\n\n\n\nConclusion: \n\n\n\nDon’t miss out on the ultimate St. Patrick’s Day experience at Freddy J’s Bar & Kitchen. With an array of delightful dishes and iconic drinks\, you will surely have an unforgettable celebration. We can’t wait to see you there\, and may the luck of the Irish be with you! 🍀
URL:https://freddyjs.com/event/st-paddys-day-2023/
LOCATION:Freddy J’s Bar & Kitchen\, 5698 Somers Point Road\, Mays Landing\, NJ\, 08330\, United States
CATEGORIES:Holidays
ATTACH;FMTTYPE=image/jpeg:https://freddyjs.com/wp-content/uploads/2023/03/St.Patricks-Day-at-Freddy-Js.jpg
END:VEVENT
END:VCALENDAR